BEGIN:VCALENDAR
VERSION:2.0
PRODID:-//Zeta Beta Tau - ECPv6.15.12//NONSGML v1.0//EN
CALSCALE:GREGORIAN
METHOD:PUBLISH
X-ORIGINAL-URL:https://zbt.org
X-WR-CALDESC:Events for Zeta Beta Tau
REFRESH-INTERVAL;VALUE=DURATION:PT1H
X-Robots-Tag:noindex
X-PUBLISHED-TTL:PT1H
BEGIN:VTIMEZONE
TZID:America/New_York
BEGIN:DAYLIGHT
TZOFFSETFROM:-0500
TZOFFSETTO:-0400
TZNAME:EDT
DTSTART:20230312T070000
END:DAYLIGHT
BEGIN:STANDARD
TZOFFSETFROM:-0400
TZOFFSETTO:-0500
TZNAME:EST
DTSTART:20231105T060000
END:STANDARD
BEGIN:DAYLIGHT
TZOFFSETFROM:-0500
TZOFFSETTO:-0400
TZNAME:EDT
DTSTART:20240310T070000
END:DAYLIGHT
BEGIN:STANDARD
TZOFFSETFROM:-0400
TZOFFSETTO:-0500
TZNAME:EST
DTSTART:20241103T060000
END:STANDARD
BEGIN:DAYLIGHT
TZOFFSETFROM:-0500
TZOFFSETTO:-0400
TZNAME:EDT
DTSTART:20250309T070000
END:DAYLIGHT
BEGIN:STANDARD
TZOFFSETFROM:-0400
TZOFFSETTO:-0500
TZNAME:EST
DTSTART:20251102T060000
END:STANDARD
END:VTIMEZONE
BEGIN:VEVENT
DTSTART;TZID=America/New_York:20240228T193000
DTEND;TZID=America/New_York:20240228T203000
DTSTAMP:20260420T072458
CREATED:20231108T162054Z
LAST-MODIFIED:20231108T162054Z
UID:5890-1709148600-1709152200@zbt.org
SUMMARY:ZBT Monthly Webinar; Alumni Engagement
DESCRIPTION:Keeping chapter and local alumni updated about chapter business and events can be easier said than done. Attendees will hear best practices from a chapter that does it well\, as well as alumni who have tips for engaging graduates who are in different stages of life. \nREGISTER
URL:https://zbt.org/event/zbt-monthly-webinar-alumni-engagement/
END:VEVENT
END:VCALENDAR