BEGIN:VCALENDAR
VERSION:2.0
PRODID:-//Zeta Beta Tau - ECPv6.15.12//NONSGML v1.0//EN
CALSCALE:GREGORIAN
METHOD:PUBLISH
X-ORIGINAL-URL:https://zbt.org
X-WR-CALDESC:Events for Zeta Beta Tau
REFRESH-INTERVAL;VALUE=DURATION:PT1H
X-Robots-Tag:noindex
X-PUBLISHED-TTL:PT1H
BEGIN:VTIMEZONE
TZID:America/New_York
BEGIN:DAYLIGHT
TZOFFSETFROM:-0500
TZOFFSETTO:-0400
TZNAME:EDT
DTSTART:20250309T070000
END:DAYLIGHT
BEGIN:STANDARD
TZOFFSETFROM:-0400
TZOFFSETTO:-0500
TZNAME:EST
DTSTART:20251102T060000
END:STANDARD
BEGIN:DAYLIGHT
TZOFFSETFROM:-0500
TZOFFSETTO:-0400
TZNAME:EDT
DTSTART:20260308T070000
END:DAYLIGHT
BEGIN:STANDARD
TZOFFSETFROM:-0400
TZOFFSETTO:-0500
TZNAME:EST
DTSTART:20261101T060000
END:STANDARD
BEGIN:DAYLIGHT
TZOFFSETFROM:-0500
TZOFFSETTO:-0400
TZNAME:EDT
DTSTART:20270314T070000
END:DAYLIGHT
BEGIN:STANDARD
TZOFFSETFROM:-0400
TZOFFSETTO:-0500
TZNAME:EST
DTSTART:20271107T060000
END:STANDARD
END:VTIMEZONE
BEGIN:VEVENT
DTSTART;TZID=America/New_York:20260401T180000
DTEND;TZID=America/New_York:20260409T180000
DTSTAMP:20260424T073755
CREATED:20250627T173151Z
LAST-MODIFIED:20250627T173221Z
UID:6820-1775066400-1775757600@zbt.org
SUMMARY:Passover
DESCRIPTION:More widely observed than any other holiday\, Passover celebrates the exodus of the Israelites and redemption after 400 years of Egyptian slavery. It is a week-long major Jewish holiday. During this week\, it is tradition to avoid breads made with yeast to recreate the experience of passing over Egypt. Leavened bread was forbidden during the exodus since the Jews were in a hurry to leave. Today\, matzo bread\, similar to a cracker\, is substituted.
URL:https://zbt.org/event/passover-4/
END:VEVENT
END:VCALENDAR