BEGIN:VCALENDAR
VERSION:2.0
PRODID:-//Zeta Beta Tau - ECPv6.15.12//NONSGML v1.0//EN
CALSCALE:GREGORIAN
METHOD:PUBLISH
X-WR-CALNAME:Zeta Beta Tau
X-ORIGINAL-URL:https://zbt.org
X-WR-CALDESC:Events for Zeta Beta Tau
REFRESH-INTERVAL;VALUE=DURATION:PT1H
X-Robots-Tag:noindex
X-PUBLISHED-TTL:PT1H
BEGIN:VTIMEZONE
TZID:America/New_York
BEGIN:DAYLIGHT
TZOFFSETFROM:-0500
TZOFFSETTO:-0400
TZNAME:EDT
DTSTART:20260308T070000
END:DAYLIGHT
BEGIN:STANDARD
TZOFFSETFROM:-0400
TZOFFSETTO:-0500
TZNAME:EST
DTSTART:20261101T060000
END:STANDARD
BEGIN:DAYLIGHT
TZOFFSETFROM:-0500
TZOFFSETTO:-0400
TZNAME:EDT
DTSTART:20270314T070000
END:DAYLIGHT
BEGIN:STANDARD
TZOFFSETFROM:-0400
TZOFFSETTO:-0500
TZNAME:EST
DTSTART:20271107T060000
END:STANDARD
BEGIN:DAYLIGHT
TZOFFSETFROM:-0500
TZOFFSETTO:-0400
TZNAME:EDT
DTSTART:20280312T070000
END:DAYLIGHT
BEGIN:STANDARD
TZOFFSETFROM:-0400
TZOFFSETTO:-0500
TZNAME:EST
DTSTART:20281105T060000
END:STANDARD
END:VTIMEZONE
BEGIN:VEVENT
DTSTART;TZID=America/New_York:20270417T170000
DTEND;TZID=America/New_York:20270417T190000
DTSTAMP:20260424T090432
CREATED:20260416T204527Z
LAST-MODIFIED:20260416T205008Z
UID:7198-1807981200-1807988400@zbt.org
SUMMARY:Alpha Rho (UCLA) Centennial Celebration
DESCRIPTION:Brothers will gather for a reception on campus on April 17. Time TBA. \n\nTo update your contact information with ZBT so you receive information\, contact us.\nFor specific questions\, event chairs are: Irv Chase\, 1974\, Ted Lux\, 1980\, and Jack Verschleiser 2019.
URL:https://zbt.org/event/alpha-rho-ucla-centennial-celebration/
END:VEVENT
END:VCALENDAR