BEGIN:VCALENDAR
VERSION:2.0
PRODID:-//Zeta Beta Tau - ECPv6.15.12//NONSGML v1.0//EN
CALSCALE:GREGORIAN
METHOD:PUBLISH
X-WR-CALNAME:Zeta Beta Tau
X-ORIGINAL-URL:https://zbt.org
X-WR-CALDESC:Events for Zeta Beta Tau
REFRESH-INTERVAL;VALUE=DURATION:PT1H
X-Robots-Tag:noindex
X-PUBLISHED-TTL:PT1H
BEGIN:VTIMEZONE
TZID:America/New_York
BEGIN:DAYLIGHT
TZOFFSETFROM:-0500
TZOFFSETTO:-0400
TZNAME:EDT
DTSTART:20240310T070000
END:DAYLIGHT
BEGIN:STANDARD
TZOFFSETFROM:-0400
TZOFFSETTO:-0500
TZNAME:EST
DTSTART:20241103T060000
END:STANDARD
BEGIN:DAYLIGHT
TZOFFSETFROM:-0500
TZOFFSETTO:-0400
TZNAME:EDT
DTSTART:20250309T070000
END:DAYLIGHT
BEGIN:STANDARD
TZOFFSETFROM:-0400
TZOFFSETTO:-0500
TZNAME:EST
DTSTART:20251102T060000
END:STANDARD
BEGIN:DAYLIGHT
TZOFFSETFROM:-0500
TZOFFSETTO:-0400
TZNAME:EDT
DTSTART:20260308T070000
END:DAYLIGHT
BEGIN:STANDARD
TZOFFSETFROM:-0400
TZOFFSETTO:-0500
TZNAME:EST
DTSTART:20261101T060000
END:STANDARD
BEGIN:DAYLIGHT
TZOFFSETFROM:-0500
TZOFFSETTO:-0400
TZNAME:EDT
DTSTART:20270314T070000
END:DAYLIGHT
BEGIN:STANDARD
TZOFFSETFROM:-0400
TZOFFSETTO:-0500
TZNAME:EST
DTSTART:20271107T060000
END:STANDARD
END:VTIMEZONE
BEGIN:VTIMEZONE
TZID:America/Los_Angeles
BEGIN:DAYLIGHT
TZOFFSETFROM:-0800
TZOFFSETTO:-0700
TZNAME:PDT
DTSTART:20240310T100000
END:DAYLIGHT
BEGIN:STANDARD
TZOFFSETFROM:-0700
TZOFFSETTO:-0800
TZNAME:PST
DTSTART:20241103T090000
END:STANDARD
BEGIN:DAYLIGHT
TZOFFSETFROM:-0800
TZOFFSETTO:-0700
TZNAME:PDT
DTSTART:20250309T100000
END:DAYLIGHT
BEGIN:STANDARD
TZOFFSETFROM:-0700
TZOFFSETTO:-0800
TZNAME:PST
DTSTART:20251102T090000
END:STANDARD
BEGIN:DAYLIGHT
TZOFFSETFROM:-0800
TZOFFSETTO:-0700
TZNAME:PDT
DTSTART:20260308T100000
END:DAYLIGHT
BEGIN:STANDARD
TZOFFSETFROM:-0700
TZOFFSETTO:-0800
TZNAME:PST
DTSTART:20261101T090000
END:STANDARD
END:VTIMEZONE
BEGIN:VEVENT
DTSTART;TZID=America/New_York:20250518T120000
DTEND;TZID=America/New_York:20250518T160000
DTSTAMP:20260419T111310
CREATED:20250424T220758Z
LAST-MODIFIED:20250424T220758Z
UID:6698-1747569600-1747584000@zbt.org
SUMMARY:Officer Summits
DESCRIPTION:BDD Summit \nAttendees will take a deep-dive into THE JOURNEY\, auditing and discussing each element carefully and providing feedback toward a pending overhaul of the program. Click here to sign up. \nRecruitment Director Summit \nAttendees will discuss overall growth strategies and tactics\, hone event planning skills\, review chapter-specific growth data\, and learn marketing tips and tricks. Click here to sign up. \nFor questions on either event\, contact Kristin Fouts at kfouts@zbtnational.org.
URL:https://zbt.org/event/officer-summits/
END:VEVENT
BEGIN:VEVENT
DTSTART;TZID=America/Los_Angeles:20250618T180000
DTEND;TZID=America/Los_Angeles:20250618T200000
DTSTAMP:20260419T111310
CREATED:20250603T170059Z
LAST-MODIFIED:20250603T170405Z
UID:6758-1750269600-1750276800@zbt.org
SUMMARY:Alumni Event: SoCal Happy Hour
DESCRIPTION:Join the Zeta Beta Tau Southern California Alumni Association for our first Happy Hour — reconnect\, reminisce\, and meet brothers from chapters nationwide. \n📍 The Nickel Mine\, 11363 Santa Monica Blvd.\, Los Angeles\, CA 90025 \n📅 Tuesday\, June 18 \n🕕 6:00 PM Pacific \nRSVP
URL:https://zbt.org/event/zbt-socal-alumni-inaugural-happy-hour/
CATEGORIES:Southern California Area Alumni Association
END:VEVENT
BEGIN:VEVENT
DTSTART;TZID=America/New_York:20250626T183000
DTEND;TZID=America/New_York:20250626T200000
DTSTAMP:20260419T111310
CREATED:20250603T170250Z
LAST-MODIFIED:20250603T170333Z
UID:6759-1750962600-1750968000@zbt.org
SUMMARY:Alumni Event: NYC Midtown Happy Hour
DESCRIPTION:Announcing our next event: Happy Hour at American Whiskey. We are excited to celebrate brotherhood and connect fellow ZBTs! \nRSVP\n\nWhen: 6:30 p.m. Thursday\, June 26.\nWhere: American Whiskey\, 247 W 30th St\, New York\, NY 10001.\nWho: Alumni brothers who live and work in the New York area regardless of generation\, alma mater or chapter of initiation.\n\nRSVP: Please help us get a good head count with your response. Brothers are responsible for their own food and drink orders.
URL:https://zbt.org/event/zbt-nyc-alumni-midtown-happy-hour/
CATEGORIES:New York City Area Alumni Association
END:VEVENT
BEGIN:VEVENT
DTSTART;TZID=America/New_York:20250701T183000
DTEND;TZID=America/New_York:20250701T203000
DTSTAMP:20260419T111310
CREATED:20250526T134708Z
LAST-MODIFIED:20250530T155351Z
UID:6740-1751394600-1751401800@zbt.org
SUMMARY:Alumni Event: Chicago
DESCRIPTION:Games\, food and drink at Puttshack Oakbrook\, Puttshack\, Oakbrook Center 1828\, Oak Brook\, IL 60523. Moved to July 1 from original June date. \n  \nQuestions or concerns can be sent to our email\, zbtchicagolandalumni@gmail.com
URL:https://zbt.org/event/alumni-event-chicago/
CATEGORIES:Chicago Area Alumni Association
END:VEVENT
BEGIN:VEVENT
DTSTART;TZID=America/New_York:20250731T150000
DTEND;TZID=America/New_York:20250802T220000
DTSTAMP:20260419T111310
CREATED:20240903T155041Z
LAST-MODIFIED:20240903T155041Z
UID:6382-1753974000-1754172000@zbt.org
SUMMARY:2025 International Convention
DESCRIPTION:2025 International Convention will be from July 31 to Aug. 2 in New Orleans. This is the Fraternity’s 113th convention and it serves as a time for both education and governance of the Fraternity for the upcoming year.  Stay tuned for specific times\, locations and activities. \nEducational programming at International Convention is made possible in part by the generous support of the Zeta Beta Tau Foundation. Learn how you can support the Zeta Beta Tau Foundation at zbtfoundation.org!
URL:https://zbt.org/event/2025-international-convention/
LOCATION:New Orleans Marriott\, 555 Canal Street\, New Orleans\, LA\, 70130\, United States
END:VEVENT
BEGIN:VEVENT
DTSTART;TZID=America/New_York:20250820T193000
DTEND;TZID=America/New_York:20250820T203000
DTSTAMP:20260419T111310
CREATED:20250627T183255Z
LAST-MODIFIED:20250627T183255Z
UID:6841-1755718200-1755721800@zbt.org
SUMMARY:Officer Webinar: Introducing ZBT’s New Brother Experience
DESCRIPTION:ZBT is launching a new four-week educational experience for first-semester brothers. As part of a revamp of THE JOURNEY\, this onboarding program provides structure\, critical education on key Fraternity concepts\, and flexibility for local chapter traditions and content. Learn how to implement this program in your chapter starting this fall! Register here.
URL:https://zbt.org/event/officer-webinar-introducing-zbts-new-brother-experience/
END:VEVENT
BEGIN:VEVENT
DTSTART;TZID=America/New_York:20250826T193000
DTEND;TZID=America/New_York:20250826T203000
DTSTAMP:20260419T111310
CREATED:20250627T182458Z
LAST-MODIFIED:20250627T182458Z
UID:6832-1756236600-1756240200@zbt.org
SUMMARY:Advisor Connect: August
DESCRIPTION:ZBT International Headquarters will be hosting an advisor connect to provide updates\, connect brothers to other advisors\, answer any questions and address any concerns. 7:30pm Eastern/4:30pm Pacific start. If you are a Chapter Advisor and interested in joining\, contact Jonathan Levin at jlevin@zbtnational.org to receive the Zoom link.
URL:https://zbt.org/event/advisor-connect-august/
END:VEVENT
BEGIN:VEVENT
DTSTART;TZID=America/New_York:20250917T193000
DTEND;TZID=America/New_York:20250917T203000
DTSTAMP:20260419T111310
CREATED:20250627T183336Z
LAST-MODIFIED:20250627T183336Z
UID:6843-1758137400-1758141000@zbt.org
SUMMARY:Officer Webinar: Crisis Management Procedures
DESCRIPTION:From incidents at social events to protests on campus or allegations of sexual misconduct\, chapter leaders MUST know how to respond in times of crisis and where to get expert assistance. Learn about the Fraternity’s Risk Reduction Protocol\, universal communication and reporting procedures\, and tips for specific situations. Register here.
URL:https://zbt.org/event/officer-webinar-crisis-management-procedures/
END:VEVENT
BEGIN:VEVENT
DTSTART;VALUE=DATE:20250922
DTEND;VALUE=DATE:20250927
DTSTAMP:20260419T111310
CREATED:20250910T135802Z
LAST-MODIFIED:20250917T181553Z
UID:6980-1758499200-1758931199@zbt.org
SUMMARY:National Hazing Prevention Week
DESCRIPTION:National Hazing Prevention Week (NHPW)\, sponsored by Hazing Prevention Network\, is your chance to step up\, speak out\, and make a difference on campus. Zeta Beta Tau is a Bronze Member of Hazing Prevention Network. Held the last full week of September\, NHPW brings students together to raise awareness and take action against hazing. This year’s theme\, “Be the leader. Prevent hazing.” highlights how you can create safer\, stronger communities through education\, advocacy\, and awareness. \n📢 Join us for a powerful National Hazing Prevention Week webinar with special guest Carol King! Carol is a passionate advocate working to create safe and positive experiences for all students. Don’t miss this chance to learn\, reflect\, and lead the way in preventing hazing.  \n🗓 Monday\, September 29\n⏰ 7:00 PM ET  \n💡 Chapters with 5 or more brothers attending in full will earn SOE credit.   \n👉 Register here: https://us06web.zoom.us/meeting/register/V85cTSpdSoqu-1ZcT7RANg#/registration. You will receive a notification from Zoom when the revised date is scheduled. \n 
URL:https://zbt.org/event/nphw25
END:VEVENT
BEGIN:VEVENT
DTSTART;TZID=America/New_York:20250922T190000
DTEND;TZID=America/New_York:20250924T190000
DTSTAMP:20260419T111310
CREATED:20250627T172455Z
LAST-MODIFIED:20250627T172455Z
UID:6816-1758567600-1758740400@zbt.org
SUMMARY:Rosh Hashanah
DESCRIPTION:Rosh Hashanah\, the new year in the Jewish calendar\, is a fall holiday. It is both a time of rejoicing and of serious introspection\, celebrating the completion of another year while also taking stock of one’s life. Traditionally\, Jews eat sweet foods — like apples and honey — to symbolize a sweet new year. The traditional greeting is Shana tova\, meaning “Have a good year\,” given during the days from Rosh Hashanah through Yom Kippur.
URL:https://zbt.org/event/rosh-hashanah-3/
END:VEVENT
BEGIN:VEVENT
DTSTART;TZID=America/New_York:20250930T193000
DTEND;TZID=America/New_York:20250930T203000
DTSTAMP:20260419T111310
CREATED:20250627T182538Z
LAST-MODIFIED:20250627T182538Z
UID:6833-1759260600-1759264200@zbt.org
SUMMARY:Advisor Connect: September
DESCRIPTION:ZBT International Headquarters will be hosting an advisor connect to provide updates\, connect brothers to other advisors\, answer any questions and address any concerns. 7:30pm Eastern/4:30pm Pacific start. If you are a Chapter Advisor and interested in joining\, contact Jonathan Levin at jlevin@zbtnational.org to receive the Zoom link.
URL:https://zbt.org/event/advisor-connect-september/
END:VEVENT
BEGIN:VEVENT
DTSTART;TZID=America/New_York:20251001T190000
DTEND;TZID=America/New_York:20251002T190000
DTSTAMP:20260419T111310
CREATED:20250627T172645Z
LAST-MODIFIED:20250627T172645Z
UID:6817-1759345200-1759431600@zbt.org
SUMMARY:Yom Kippur
DESCRIPTION:Yom Kippur is the Day of Atonement\, when Jews ask forgiveness for the wrongs committed over the past year. Traditionally\, Jews fast on this somber day and also refrain from other bodily indulgences. Yom Kippur falls 10 days after Rosh Hashanah and lasts one day. It begins at sundown and concludes at sundown the following day. The fast itself lasts 25 hours.
URL:https://zbt.org/event/yom-kippur-4/
END:VEVENT
BEGIN:VEVENT
DTSTART;VALUE=DATE:20251007
DTEND;VALUE=DATE:20251014
DTSTAMP:20260419T111310
CREATED:20250627T172208Z
LAST-MODIFIED:20250627T172208Z
UID:6815-1759795200-1760399999@zbt.org
SUMMARY:Sukkot
DESCRIPTION:This holiday is known as the Festival of Booths. Beginning five days after Yom Kippur\, Sukkot is named after the booths or huts (sukkot in Hebrew) representing the huts in which the Israelites dwelt during their 40 years of wandering in the desert after escaping from slavery in Egypt.
URL:https://zbt.org/event/sukkot-4/
END:VEVENT
BEGIN:VEVENT
DTSTART;TZID=America/New_York:20251022T193000
DTEND;TZID=America/New_York:20251022T203000
DTSTAMP:20260419T111310
CREATED:20250627T183410Z
LAST-MODIFIED:20250627T183410Z
UID:6844-1761161400-1761165000@zbt.org
SUMMARY:Officer Webinar: Working Through Chapter Debt
DESCRIPTION:No chapter leader wants to spend time hassling brothers to pay their dues. Unpaid local dues hinder the chapter’s ability to function\, and unpaid national dues prevent staff from providing great programs and critical services. Of course\, prevention is a major part of the process\, but WHEN you find yourself falling behind\, what do you do? Learn strategies that work from chapter leaders who have been-there-done-that and learned important lessons. Register here.
URL:https://zbt.org/event/officer-webinar-working-through-chapter-debt/
END:VEVENT
BEGIN:VEVENT
DTSTART;TZID=America/New_York:20251028T193000
DTEND;TZID=America/New_York:20251028T203000
DTSTAMP:20260419T111310
CREATED:20250627T182616Z
LAST-MODIFIED:20250627T182616Z
UID:6834-1761679800-1761683400@zbt.org
SUMMARY:Advisor Connect: October
DESCRIPTION:ZBT International Headquarters will be hosting an advisor connect to provide updates\, connect brothers to other advisors\, answer any questions and address any concerns. 7:30pm Eastern/4:30pm Pacific start. If you are a Chapter Advisor and interested in joining\, contact Jonathan Levin at jlevin@zbtnational.org to receive the Zoom link.
URL:https://zbt.org/event/advisor-connect-october/
END:VEVENT
BEGIN:VEVENT
DTSTART;TZID=America/New_York:20251105T200000
DTEND;TZID=America/New_York:20251105T210000
DTSTAMP:20260419T111310
CREATED:20251030T155049Z
LAST-MODIFIED:20251030T155049Z
UID:7058-1762372800-1762376400@zbt.org
SUMMARY:Webinar: Why the Genetics of Men's Health Matters
DESCRIPTION:ZBT is hosting a webinar with jscreen\, an organization that provides genetic screening which combats different types of cancers and diseases. They have a focus on certain types of diseases that are more prevalent in the Ashkenazi Jewish population. \nREGISTER
URL:https://zbt.org/event/webinar-why-the-genetics-of-mens-health-matters/
LOCATION:Zoom
END:VEVENT
BEGIN:VEVENT
DTSTART;TZID=America/New_York:20251119T193000
DTEND;TZID=America/New_York:20251119T203000
DTSTAMP:20260419T111310
CREATED:20250627T183455Z
LAST-MODIFIED:20250627T183455Z
UID:6845-1763580600-1763584200@zbt.org
SUMMARY:Officer Webinar: SOE 2026: Program Changes & Improvements
DESCRIPTION:ZBT’s Standards of Excellence program continues to evolve and improve to highlight the most important indicators of a thriving chapter experience. More changes will roll out in early 2026\, and we want your feedback! Join this webinar to hear what’s on the table and share what works and doesn’t for your chapter. Register here.
URL:https://zbt.org/event/officer-webinar-soe-2026-program-changes-improvements/
END:VEVENT
BEGIN:VEVENT
DTSTART;TZID=America/New_York:20251125T193000
DTEND;TZID=America/New_York:20251125T203000
DTSTAMP:20260419T111310
CREATED:20250627T182652Z
LAST-MODIFIED:20250627T182652Z
UID:6835-1764099000-1764102600@zbt.org
SUMMARY:Advisor Connect: November
DESCRIPTION:ZBT International Headquarters will be hosting an advisor connect to provide updates\, connect brothers to other advisors\, answer any questions and address any concerns. 7:30pm Eastern/4:30pm Pacific start. If you are a Chapter Advisor and interested in joining\, contact Jonathan Levin at jlevin@zbtnational.org to receive the Zoom link.
URL:https://zbt.org/event/advisor-connect-november/
END:VEVENT
BEGIN:VEVENT
DTSTART;TZID=America/New_York:20251214T170000
DTEND;TZID=America/New_York:20251222T170000
DTSTAMP:20260419T111310
CREATED:20250627T172834Z
LAST-MODIFIED:20250627T172834Z
UID:6818-1765731600-1766422800@zbt.org
SUMMARY:Hanukkah
DESCRIPTION:Hanukkah is the Festival of Lights. This eight-day holiday celebrates when the Jewish people reclaimed the Holy Temple\, having found oil supposed to only last one day that miraculously lasted eight days. Hanukkah is a relatively minor holiday from the perspective of Jewish tradition\, its importance is often magnified due to its proximity to other major December\ncelebrations.
URL:https://zbt.org/event/hanukkah-3/
END:VEVENT
BEGIN:VEVENT
DTSTART;VALUE=DATE:20251229
DTEND;VALUE=DATE:20251230
DTSTAMP:20260419T111310
CREATED:20250627T171713Z
LAST-MODIFIED:20250627T171713Z
UID:6813-1766966400-1767052799@zbt.org
SUMMARY:Founders Day
DESCRIPTION:Zeta Beta Tau Fraternity was inspired by Richard J. H. Gottheil\, a professor of languages at Columbia University and a leader in the early American Zionist movement. On December 29\, 1898\, Professor Gottheil gathered a group of Jewish students from several New York City universities to form a Zionist youth society. The society was called Z.B.T. Just more\nthan 125 years later\, Zeta Beta Tau is proud to be the world’s oldest and largest Jewish fraternity. \n\nZBT History\nZBT Founders
URL:https://zbt.org/event/founders-day-2-2/
END:VEVENT
BEGIN:VEVENT
DTSTART;TZID=America/New_York:20260109T170000
DTEND;TZID=America/New_York:20260111T120000
DTSTAMP:20260419T111310
CREATED:20250627T175839Z
LAST-MODIFIED:20250627T175839Z
UID:6831-1767978000-1768132800@zbt.org
SUMMARY:James E. Greer\, Jr. President’s Leadership Academy
DESCRIPTION:The James E. Greer\, Jr. Presidents’ Leadership Academy is one of the Fraternity’s premiere leadership programs. The program is intended to be an intensive leadership development program that challenges brothers to create positive change in their chapters and communities by equipping them with the necessary tools and skills. \nSee full program details here. \nThis program is made possible in part by the generous support of the Zeta Beta Tau Foundation. To learn more about your Foundation\, please visit zbtfoundation.org.
URL:https://zbt.org/event/james-e-greer-jr-presidents-leadership-academy-6/
END:VEVENT
BEGIN:VEVENT
DTSTART;TZID=America/New_York:20260111T170000
DTEND;TZID=America/New_York:20260111T200000
DTSTAMP:20260419T111310
CREATED:20250916T201137Z
LAST-MODIFIED:20251117T151743Z
UID:6998-1768150800-1768161600@zbt.org
SUMMARY:Virtual Officer Institute
DESCRIPTION:ZBT wants to ensure new officers are set up for success and can their new job well\, so early in the year we plan officer education to support chapter leaders. \nThe Virtual Officers Institute is a REQUIRED officer training program for the following Director roles: Operations\, Programming\, Finance\, Standards\, Communications\, Brotherhood Development\, Risk Prevention & Wellness\, and Recruitment. Chapter Advisors should also plan to participate. it is a Standards of Excellence point. \nStart time: 5pm Eastern (or: 4pm Central\, 3pm Mountain\, 2pm Pacific) \nREGISTER\nChapter Presidents: VOI does not have a Presidents’ track. The only Chapter Presidents’ education this spring is at the James E. Greer\, Jr. Presidents’ Leadership Academy over Jan. 9-11. Register here.
URL:https://zbt.org/event/virtual-officer-institute-2/
LOCATION:Zoom
END:VEVENT
BEGIN:VEVENT
DTSTART;VALUE=DATE:20260125
DTEND;VALUE=DATE:20260126
DTSTAMP:20260419T111310
CREATED:20250627T174933Z
LAST-MODIFIED:20251210T162425Z
UID:6827-1769299200-1769385599@zbt.org
SUMMARY:Dover Days: Regional Leadership Institute
DESCRIPTION:Mentors needed! ZBT is asking alumni to volunteer to speak with current undergraduates — and join ZBT for lunch — at an upcoming undergraduate program in your area. \n\nAtlanta\, January 25\nPhoenix\, January 25\nChicago\, February 1\nNew Jersey\, February 1\n\nAdditional details can be found here: Dover Days \nAlumni\nAlumni are welcome to join lunch as a guest of ZBT. However\, the Fraternity would appreciate those who are willing to offset the expense of their meal ($36) and/or the cost of an undergraduate lunch. All meals are kosher friendly. \nREGISTER\nUndergraduates\nAll chapters and prospective chapters must have at least four brothers at a Dover Day. Two must be on the Executive Board (any role). You may choose the Dover Day date/location that works best for you. \nRegister in myZBT.
URL:https://zbt.org/event/doverdays
END:VEVENT
BEGIN:VEVENT
DTSTART;VALUE=DATE:20260127
DTEND;VALUE=DATE:20260128
DTSTAMP:20260419T111310
CREATED:20250627T172941Z
LAST-MODIFIED:20250627T172941Z
UID:6819-1769472000-1769558399@zbt.org
SUMMARY:International Holocaust Remembrance Day
DESCRIPTION:The United Nations has designated January 27 — the anniversary of the liberation of Auschwitz-Birkenau — as International Holocaust Remembrance Day. U.N. member states are urged to honor the 6 million Jewish victims of the Holocaust and millions of other victims of Nazism.
URL:https://zbt.org/event/international-holocaust-remembrance-day-2/
END:VEVENT
BEGIN:VEVENT
DTSTART;TZID=America/New_York:20260127T193000
DTEND;TZID=America/New_York:20260127T203000
DTSTAMP:20260419T111310
CREATED:20250627T182725Z
LAST-MODIFIED:20250627T182725Z
UID:6836-1769542200-1769545800@zbt.org
SUMMARY:Advisor Connect: January
DESCRIPTION:ZBT International Headquarters will be hosting an advisor connect to provide updates\, connect brothers to other advisors\, answer any questions and address any concerns. 7:30pm Eastern/4:30pm Pacific start. If you are a Chapter Advisor and interested in joining\, contact Jonathan Levin at jlevin@zbtnational.org to receive the Zoom link.
URL:https://zbt.org/event/advisor-connect-january/
END:VEVENT
BEGIN:VEVENT
DTSTART;VALUE=DATE:20260201
DTEND;VALUE=DATE:20260202
DTSTAMP:20260419T111310
CREATED:20250627T175303Z
LAST-MODIFIED:20260126T135609Z
UID:6828-1769904000-1769990399@zbt.org
SUMMARY:Dover Days: Regional Leadership Institute #2
DESCRIPTION:Mentors needed! ZBT is asking alumni to volunteer to speak with current undergraduates — and join ZBT for lunch — at an upcoming undergraduate program in your area. \n\nChicago\, February 1\nNew Jersey\, February 1\n\nAdditional details can be found here: Dover Days \nAlumni\nAlumni are welcome to join lunch as a guest of ZBT. However\, the Fraternity would appreciate those who are willing to offset the expense of their meal ($36) and/or the cost of an undergraduate lunch. All meals are kosher friendly. \nREGISTER\nUndergraduates\nAll chapters and prospective chapters must have at least four brothers at a Dover Day. Two must be on the Executive Board (any role). You may choose the Dover Day date/location that works best for you. \nRegister in myZBT.
URL:https://zbt.org/event/dover-days-regional-leadership-institute-2-3/
END:VEVENT
BEGIN:VEVENT
DTSTART;TZID=America/New_York:20260211T193000
DTEND;TZID=America/New_York:20260211T203000
DTSTAMP:20260419T111310
CREATED:20260128T183233Z
LAST-MODIFIED:20260128T183233Z
UID:7112-1770838200-1770841800@zbt.org
SUMMARY:Officer Webinar: Reviewing and Signing Contracts
DESCRIPTION:Watch out! Contracts can be intimidating for chapter leaders working on leases\, event plans\, composites and other regular fraternity business. This webinar explains how to read a contract\, who can and should sign on behalf of your chapter\, red flags and how to protect yourself by asking the right questions. \nZOOM INFO
URL:https://zbt.org/event/officer-webinar-reviewing-and-signing-contracts/
END:VEVENT
BEGIN:VEVENT
DTSTART;TZID=America/New_York:20260224T193000
DTEND;TZID=America/New_York:20260224T203000
DTSTAMP:20260419T111310
CREATED:20250627T182757Z
LAST-MODIFIED:20250627T182757Z
UID:6837-1771961400-1771965000@zbt.org
SUMMARY:Advisor Connect: February
DESCRIPTION:ZBT International Headquarters will be hosting an advisor connect to provide updates\, connect brothers to other advisors\, answer any questions and address any concerns. 7:30pm Eastern/4:30pm Pacific start. If you are a Chapter Advisor and interested in joining\, contact Jonathan Levin at jlevin@zbtnational.org to receive the Zoom link.
URL:https://zbt.org/event/advisor-connect-february/
END:VEVENT
BEGIN:VEVENT
DTSTART;TZID=America/New_York:20260301T100000
DTEND;TZID=America/New_York:20260301T170000
DTSTAMP:20260419T111310
CREATED:20260121T201830Z
LAST-MODIFIED:20260126T135551Z
UID:7108-1772359200-1772384400@zbt.org
SUMMARY:Dover Days: Regional Leadership Institute
DESCRIPTION:Mentors needed! ZBT is asking alumni to volunteer to speak with current undergraduates — and join ZBT for lunch — at an upcoming undergraduate program in your area. \n\nAtlanta\, March 1\n\nAdditional details can be found here: Dover Days \nAlumni\nAlumni are welcome to join lunch as a guest of ZBT. However\, the Fraternity would appreciate those who are willing to offset the expense of their meal ($36) and/or the cost of an undergraduate lunch. All meals are kosher friendly. \nREGISTER\nUndergraduates\nAll chapters and prospective chapters must have at least four brothers at a Dover Day. Two must be on the Executive Board (any role). You may choose the Dover Day date/location that works best for you. \nRegister in myZBT.
URL:https://zbt.org/event/dover-days-regional-leadership-institute-2/
END:VEVENT
BEGIN:VEVENT
DTSTART;TZID=America/New_York:20260302T180000
DTEND;TZID=America/New_York:20260303T180000
DTSTAMP:20260419T111310
CREATED:20250627T173438Z
LAST-MODIFIED:20250627T173438Z
UID:6821-1772474400-1772560800@zbt.org
SUMMARY:Purim
DESCRIPTION:Purim is a festive celebration of good triumphing over evil\, centering around the Jewish people being saved by Queen Esther when the evil Haman wanted to kill all Jews in Persia. Many people dress up in costume. Synagogues and communities hold plays and festivals. Food and gifts abound.
URL:https://zbt.org/event/purim-3/
END:VEVENT
END:VCALENDAR