BEGIN:VCALENDAR
VERSION:2.0
PRODID:-//Zeta Beta Tau - ECPv6.15.12//NONSGML v1.0//EN
CALSCALE:GREGORIAN
METHOD:PUBLISH
X-WR-CALNAME:Zeta Beta Tau
X-ORIGINAL-URL:https://zbt.org
X-WR-CALDESC:Events for Zeta Beta Tau
REFRESH-INTERVAL;VALUE=DURATION:PT1H
X-Robots-Tag:noindex
X-PUBLISHED-TTL:PT1H
BEGIN:VTIMEZONE
TZID:America/New_York
BEGIN:DAYLIGHT
TZOFFSETFROM:-0500
TZOFFSETTO:-0400
TZNAME:EDT
DTSTART:20190310T070000
END:DAYLIGHT
BEGIN:STANDARD
TZOFFSETFROM:-0400
TZOFFSETTO:-0500
TZNAME:EST
DTSTART:20191103T060000
END:STANDARD
BEGIN:DAYLIGHT
TZOFFSETFROM:-0500
TZOFFSETTO:-0400
TZNAME:EDT
DTSTART:20200308T070000
END:DAYLIGHT
BEGIN:STANDARD
TZOFFSETFROM:-0400
TZOFFSETTO:-0500
TZNAME:EST
DTSTART:20201101T060000
END:STANDARD
BEGIN:DAYLIGHT
TZOFFSETFROM:-0500
TZOFFSETTO:-0400
TZNAME:EDT
DTSTART:20210314T070000
END:DAYLIGHT
BEGIN:STANDARD
TZOFFSETFROM:-0400
TZOFFSETTO:-0500
TZNAME:EST
DTSTART:20211107T060000
END:STANDARD
BEGIN:DAYLIGHT
TZOFFSETFROM:-0500
TZOFFSETTO:-0400
TZNAME:EDT
DTSTART:20220313T070000
END:DAYLIGHT
BEGIN:STANDARD
TZOFFSETFROM:-0400
TZOFFSETTO:-0500
TZNAME:EST
DTSTART:20221106T060000
END:STANDARD
END:VTIMEZONE
BEGIN:VEVENT
DTSTART;TZID=America/New_York:20211027T140000
DTEND;TZID=America/New_York:20211027T150000
DTSTAMP:20260424T063015
CREATED:20210812T164216Z
LAST-MODIFIED:20210812T164216Z
UID:4197-1635343200-1635346800@zbt.org
SUMMARY:Summit Against Hate
DESCRIPTION:ZBT\, along with Alpha Epsilon Phi Sorority\, Sigma Delta Tau Sorority and Sigma Alpha Mu Fraternity\, continue to host an annual Summit Against Hate for campus professionals and staff of other Greek organizations. Participants of the Summit Against Hate hear from change-makers in the Jewish and campus communities as well as Greek students who have dealt with discrimination on campus. Discussion centers around ways to improve campus environments.  The 2021 program is hosted virtually. \nRegistration will open in September.
URL:https://zbt.org/event/summit-against-hate-2/
ORGANIZER;CN="Jason Horowitz":MAILTO:jhorowitz@zbtnational.org
END:VEVENT
BEGIN:VEVENT
DTSTART;TZID=America/New_York:20211024T190000
DTEND;TZID=America/New_York:20211024T200000
DTSTAMP:20260424T063015
CREATED:20210913T151324Z
LAST-MODIFIED:20210913T151324Z
UID:4305-1635102000-1635105600@zbt.org
SUMMARY:NCBI workshop at Eta Kappa
DESCRIPTION:ZBT will host the National Coalition Building Institute at the Eta Kappa Chapter at Towson University. This important training for undergraduates focuses on the intersection of antisemitism and racism and provide an opportunity to gain allies against antisemitism and provide allyship to our brothers who experience forms of hate. \nThis chapter workshop is made possible by a generous grant from the Zeta Beta Tau Foundation.
URL:https://zbt.org/event/ncbi-workshop-at-eta-kappa/
END:VEVENT
BEGIN:VEVENT
DTSTART;TZID=America/New_York:20211024T180000
DTEND;TZID=America/New_York:20211024T180000
DTSTAMP:20260424T063015
CREATED:20211005T172000Z
LAST-MODIFIED:20211005T172000Z
UID:4384-1635098400-1635098400@zbt.org
SUMMARY:NCBI workshop at Kappa
DESCRIPTION:ZBT will host the National Coalition Building Institute at the Kappa Chapter at Cornell University. This important training for undergraduates focuses on the intersection of antisemitism and racism and provide an opportunity to gain allies against antisemitism and provide allyship to our brothers who experience forms of hate. \nThis chapter workshop is made possible by a generous grant from the Zeta Beta Tau Foundation.
URL:https://zbt.org/event/ncbi-workshop-at-kappa/
ORGANIZER;CN="Jason Horowitz":MAILTO:jhorowitz@zbtnational.org
END:VEVENT
BEGIN:VEVENT
DTSTART;TZID=America/New_York:20211020T140000
DTEND;TZID=America/New_York:20211020T150000
DTSTAMP:20260424T063015
CREATED:20210812T162836Z
LAST-MODIFIED:20210812T162836Z
UID:4195-1634738400-1634742000@zbt.org
SUMMARY:Summit Against Hate
DESCRIPTION:ZBT\, along with Alpha Epsilon Phi Sorority\, Sigma Delta Tau Sorority and Sigma Alpha Mu Fraternity\, continue to host an annual Summit Against Hate for campus professionals and staff of other Greek organizations. Participants of the Summit Against Hate hear from change-makers in the Jewish and campus communities as well as Greek students who have dealt with discrimination on campus. Discussion centers around ways to improve campus environments.  The 2021 program is hosted virtually. \nRegistration will open in September.
URL:https://zbt.org/event/summit-against-hate/
ORGANIZER;CN="Jason Horowitz":MAILTO:jhorowitz@zbtnational.org
END:VEVENT
BEGIN:VEVENT
DTSTART;TZID=America/New_York:20211019T190000
DTEND;TZID=America/New_York:20211019T190000
DTSTAMP:20260424T063015
CREATED:20211015T145714Z
LAST-MODIFIED:20211015T145714Z
UID:4430-1634670000-1634670000@zbt.org
SUMMARY:NCBI workshop at Eta Xi
DESCRIPTION:ZBT will host the National Coalition Building Institute at the Eta Xi Chapter at University of North Carolina at Charlotte. This important training for undergraduates focuses on the intersection of antisemitism and racism and provide an opportunity to gain allies against antisemitism and provide allyship to our brothers who experience forms of hate. \nThis chapter workshop is made possible by a generous grant from the Zeta Beta Tau Foundation.
URL:https://zbt.org/event/ncbi-workshop-at-eta-xi/
ORGANIZER;CN="Jason Horowitz":MAILTO:jhorowitz@zbtnational.org
END:VEVENT
BEGIN:VEVENT
DTSTART;TZID=America/New_York:20211014T180000
DTEND;TZID=America/New_York:20211014T180000
DTSTAMP:20260424T063015
CREATED:20211006T175153Z
LAST-MODIFIED:20211006T175153Z
UID:4402-1634234400-1634234400@zbt.org
SUMMARY:NCBI workshop at Epsilon Nu
DESCRIPTION:ZBT will host the National Coalition Building Institute at the Epsilon Nu Chapter at SUNY-Oneonta. This important training for undergraduates focuses on the intersection of antisemitism and racism and provide an opportunity to gain allies against antisemitism and provide allyship to our brothers who experience forms of hate. \nThis chapter workshop is made possible by a generous grant from the Zeta Beta Tau Foundation.
URL:https://zbt.org/event/ncbi-workshop-at-epsilon-nu/
ORGANIZER;CN="Jason Horowitz":MAILTO:jhorowitz@zbtnational.org
END:VEVENT
BEGIN:VEVENT
DTSTART;TZID=America/New_York:20211006T200000
DTEND;TZID=America/New_York:20211006T200000
DTSTAMP:20260424T063015
CREATED:20210902T180425Z
LAST-MODIFIED:20210902T180425Z
UID:4295-1633550400-1633550400@zbt.org
SUMMARY:NCBI workshop at Beta Alpha Chi
DESCRIPTION:ZBT will host the National Coalition Building Institute at the Beta Alpha Chi Chapter at York College of Pennsylvania. This important training for undergraduates focuses on the intersection of antisemitism and racism and provide an opportunity to gain allies against antisemitism and provide allyship to our brothers who experience forms of hate. \nThis chapter workshop is made possible by a generous grant from the Zeta Beta Tau Foundation.
URL:https://zbt.org/event/ncbi-workshop-at-beta-alpha-chi/
ORGANIZER;CN="Jason Horowitz":MAILTO:jhorowitz@zbtnational.org
END:VEVENT
BEGIN:VEVENT
DTSTART;TZID=America/New_York:20211003T190000
DTEND;TZID=America/New_York:20211003T200000
DTSTAMP:20260424T063015
CREATED:20210827T133627Z
LAST-MODIFIED:20210827T133708Z
UID:4274-1633287600-1633291200@zbt.org
SUMMARY:Love\, Mom & Dad: Turning tragedy into progress
DESCRIPTION:For the fall term\, the Anti-Hazing Coalition will host a live nationwide presentation and discussion on Sunday\, October 3 at 7 p.m. ET. \nThe AHC parents will present a program via Zoom and streamed live on social media to share their sons’ stories and educate current students about hazing prevention. The program will include Q&A with the parents. \nThese families each suffered unimaginable loss as a result of fraternity hazing. They are here to share their stories and to challenge ALL fraternity/sorority members to take up the fight to end hazing now. If we are not actively part of solving this problem\, then we are responsible for its continued persistence. Whether you’ve been hazed\, know that hazing is happening on your campus\, or even if you’ve hazed one of your members in the past\, we must all actively take part in this solving this problem so that no family has to endure this kind of tragedy. Let’s be the generation of fraternity and sorority members who end hazing once and for all. \nParents currently scheduled to participate include: \n\nSteve and Rae Ann Gruver\, their son Max died after a hazing incident at Louisiana State University\nLianne Kowiak\, her son Harrison died after a hazing incident at Lenoir-Rhyne University\nJim and Evelyn Piazza\, their son Tim died after a hazing incident at Penn State University\n\nTHIS IS A FREE PROGRAM AND OPEN TO ALL STUDENTS/ADVISORS/COACHES.
URL:https://zbt.org/event/love-mom-dad-turning-tragedy-into-progress/
LOCATION:Zoom
END:VEVENT
BEGIN:VEVENT
DTSTART;TZID=America/New_York:20210930T200000
DTEND;TZID=America/New_York:20210930T210000
DTSTAMP:20260424T063015
CREATED:20210902T180214Z
LAST-MODIFIED:20210902T180214Z
UID:4294-1633032000-1633035600@zbt.org
SUMMARY:NCBI workshop at Theta Alpha
DESCRIPTION:ZBT will host the National Coalition Building Institute at the Theta Alpha Chapter at University of Massachusetts-Amherst. This important training for undergraduates focuses on the intersection of antisemitism and racism and provide an opportunity to gain allies against antisemitism and provide allyship to our brothers who experience forms of hate. \nThis chapter workshop is made possible by a generous grant from the Zeta Beta Tau Foundation.
URL:https://zbt.org/event/ncbi-workshop-at-theta-alpha/
ORGANIZER;CN="Jason Horowitz":MAILTO:jhorowitz@zbtnational.org
END:VEVENT
BEGIN:VEVENT
DTSTART;TZID=America/New_York:20210927T180000
DTEND;TZID=America/New_York:20210928T180000
DTSTAMP:20260424T063015
CREATED:20210812T170736Z
LAST-MODIFIED:20210812T170834Z
UID:4200-1632765600-1632852000@zbt.org
SUMMARY:Simchat Torah
DESCRIPTION:Immediately following Sukkot\, we observe Sh’mini Atzeret and Simchat Torah\, a fun-filled day during which we celebrate the completion of the annual reading of the Torah. Source: ReformJudiasm.org \n  \n\nHow it connects to ZBT: With your chapter\, this is a time to reflect on the programming year. Although your\nchapter does much of the same things year after year\, how will you do something different this year? What\nneeds to change to have a positive impact and change in your chapter?\nSave the date for next year: October 18\, 2022; October 8\, 2023
URL:https://zbt.org/event/simchat-torah-2/
LOCATION:Everywhere
END:VEVENT
BEGIN:VEVENT
DTSTART;TZID=America/New_York:20210922T190000
DTEND;TZID=America/New_York:20210922T200000
DTSTAMP:20260424T063015
CREATED:20210830T160208Z
LAST-MODIFIED:20210830T160208Z
UID:4277-1632337200-1632340800@zbt.org
SUMMARY:NCBI workshop at Beta Phi
DESCRIPTION:ZBT will host the National Coalition Building Institute at the Beta Phi Chapter at University of Pittsburgh. This important training for undergraduates focuses on the intersection of antisemitism and racism and provide an opportunity to gain allies against antisemitism and provide allyship to our brothers who experience forms of hate. \nThis chapter workshop is made possible by a generous grant from the Zeta Beta Tau Foundation.
URL:https://zbt.org/event/ncbi-workshop-at-beta-phi/
ORGANIZER;CN="Jason Horowitz":MAILTO:jhorowitz@zbtnational.org
END:VEVENT
BEGIN:VEVENT
DTSTART;TZID=America/New_York:20210920T180000
DTEND;TZID=America/New_York:20210927T180000
DTSTAMP:20260424T063015
CREATED:20210812T165719Z
LAST-MODIFIED:20210812T165719Z
UID:4199-1632160800-1632765600@zbt.org
SUMMARY:Sukkot
DESCRIPTION:Sukkot is one of the most joyful festivals on the Jewish calendar. “Sukkot\,” a Hebrew word meaning “booths” or “huts\,” refers to the Jewish festival of giving thanks for the fall harvest. The holiday has also come to commemorate the 40 years of Jewish wandering in the desert after the giving of the Torah atop Mt. Sinai. \nSukkot is celebrated five days after Yom Kippur on the 15th of the Hebrew month of Tishrei\, and is marked by several distinct traditions. One\, which takes the commandment to dwell in booths literally\, is to erect a sukkah\, a small\, temporary booth or hut. Sukkot (in this case\, the plural of sukkah) are commonly used during the seven-day festival for eating\, entertaining and even for sleeping. Source: ReformJudiasm.org \n  \n\nHow it connects to ZBT: One of the main themes of this week-long holiday is to welcome guests. Have a\ndiscussion with your chapter about how you can welcome potential brothers in the best possible way.\nSave the date for next year: October 10-16\, 2022; September 30 – October 6\, 2023
URL:https://zbt.org/event/sukkot-2/
LOCATION:Everywhere
END:VEVENT
BEGIN:VEVENT
DTSTART;TZID=America/New_York:20210916T200000
DTEND;TZID=America/New_York:20210916T210000
DTSTAMP:20260424T063016
CREATED:20210902T180519Z
LAST-MODIFIED:20210902T180519Z
UID:4296-1631822400-1631826000@zbt.org
SUMMARY:NCBI workshop at Epsilon Theta
DESCRIPTION:ZBT will host the National Coalition Building Institute at the Epsilon Theta Chapter at University of Delaware. This important training for undergraduates focuses on the intersection of antisemitism and racism and provide an opportunity to gain allies against antisemitism and provide allyship to our brothers who experience forms of hate. \nThis chapter workshop is made possible by a generous grant from the Zeta Beta Tau Foundation.
URL:https://zbt.org/event/ncbi-workshop-at-epsilon-theta/
ORGANIZER;CN="Jason Horowitz":MAILTO:jhorowitz@zbtnational.org
END:VEVENT
BEGIN:VEVENT
DTSTART;TZID=America/New_York:20210915T180000
DTEND;TZID=America/New_York:20210916T180000
DTSTAMP:20260424T063016
CREATED:20210812T162409Z
LAST-MODIFIED:20210812T162409Z
UID:4194-1631728800-1631815200@zbt.org
SUMMARY:Yom Kippur
DESCRIPTION:Yom Kippur means “Day of Atonement” and refers to the annual Jewish observance of fasting\, prayer\, and repentance. Part of the High Holidays\, which also includes Rosh HaShanah (the Jewish New Year)\, Yom Kippur is considered the holiest day on the Jewish calendar. Source: ReformJudaism.org \n  \n\nHow it connects to ZBT: Asking forgiveness to any people you may have wronged this past year. Take this time\nfor brothers to do the same. Have your brothers share/write apologies to the brothers they have wronged. This\nis also a great opportunity to host a “candle pass” where you share personal feelings and stories.\nSave the date for next year: October 5\, 2022; September 25\, 2023
URL:https://zbt.org/event/yom-kippur-2/
LOCATION:Everywhere
END:VEVENT
BEGIN:VEVENT
DTSTART;TZID=America/New_York:20210906T180000
DTEND;TZID=America/New_York:20210908T180000
DTSTAMP:20260424T063016
CREATED:20210812T162133Z
LAST-MODIFIED:20210812T162443Z
UID:4192-1630951200-1631124000@zbt.org
SUMMARY:Rosh Hashanah
DESCRIPTION:Rosh HaShanah (literally\, “Head of the Year”) is the Jewish New Year\, a time of prayer\, self-reflection\, and t’shuvah. We review our actions during the past year\, and we look for ways to improve ourselves\, our communities\, and our world in the year to come. The holiday marks the beginning of a 10-day period\, known as the Yamim Nora-im (“Days of Awe” or “High Holidays”)\, ushered in by Rosh HaShanah and culminating with Yom Kippur (the “Day of Atonement”). Rosh HaShanah is widely observed by Jews throughout the world\, often with prayer and reflection in a synagogue. Source: ReformJudiaism.org \n  \n\nHow it connects to ZBT: Take this time to discuss your chapter’s “resolutions” for the upcoming year. What do\nyou want to accomplish? How will you work together to achieve your goals?\nSave the date for next year: September 26-27\, 2022; September16-17\, 2023.
URL:https://zbt.org/event/rosh-hashanah-2/
LOCATION:Everywhere
END:VEVENT
BEGIN:VEVENT
DTSTART;TZID=America/New_York:20210904T190000
DTEND;TZID=America/New_York:20210904T200000
DTSTAMP:20260424T063016
CREATED:20210830T160652Z
LAST-MODIFIED:20210830T160807Z
UID:4279-1630782000-1630785600@zbt.org
SUMMARY:Rosh Hashanah at Xi (Georgia Tech)
DESCRIPTION:Xi Chapter is hosting a dinner and educational program for brothers and friends on campus.
URL:https://zbt.org/event/rosh-hashana-at-xi-georgia-tech/
END:VEVENT
BEGIN:VEVENT
DTSTART;TZID=America/New_York:20210831T180000
DTEND;TZID=America/New_York:20210831T190000
DTSTAMP:20260424T063016
CREATED:20210830T160057Z
LAST-MODIFIED:20210830T160057Z
UID:4276-1630432800-1630436400@zbt.org
SUMMARY:NCBI workshop at Alpha Xi
DESCRIPTION:ZBT will host the National Coalition Building Institute at the Alpha Xi Chapter at Washington University in St. Louis. This important training for undergraduates focuses on the intersection of antisemitism and racism and provide an opportunity to gain allies against antisemitism and provide allyship to our brothers who experience forms of hate. \nThis chapter workshop is made possible by a generous grant from the Zeta Beta Tau Foundation.
URL:https://zbt.org/event/ncbi-workshop-at-alpha-xi/
ORGANIZER;CN="Jason Horowitz":MAILTO:jhorowitz@zbtnational.org
END:VEVENT
BEGIN:VEVENT
DTSTART;TZID=America/New_York:20210830T190000
DTEND;TZID=America/New_York:20210830T200000
DTSTAMP:20260424T063016
CREATED:20210830T160326Z
LAST-MODIFIED:20210830T160326Z
UID:4278-1630350000-1630353600@zbt.org
SUMMARY:NCBI at Epsilon Delta
DESCRIPTION:ZBT will host the National Coalition Building Institute at the Epsilon Delta Chapter at Binghamton University. This important training for undergraduates focuses on the intersection of antisemitism and racism and provide an opportunity to gain allies against antisemitism and provide allyship to our brothers who experience forms of hate. \nThis chapter workshop is made possible by a generous grant from the Zeta Beta Tau Foundation.
URL:https://zbt.org/event/ncbi-at-epsilon-delta/
ORGANIZER;CN="Jason Horowitz":MAILTO:jhorowitz@zbtnational.org
END:VEVENT
BEGIN:VEVENT
DTSTART;VALUE=DATE:20210722
DTEND;VALUE=DATE:20210725
DTSTAMP:20260424T063016
CREATED:20210415T155923Z
LAST-MODIFIED:20210702T153927Z
UID:3904-1626912000-1627171199@zbt.org
SUMMARY:2021 International Convention
DESCRIPTION:Meet us in Miami! The 2021 International Convention will take place in Miami\, FL.\, July 22nd-July 25th\, 2021. With safety as the priority\, Zeta Beta Tau Fraternity will be offering two different ways to attend the International Convention: in-person and virtually. We want our brothers to continue to #BeMindful. \nCheck out information regarding the 2021 International Convention and register at ZBT.org/Miami! \nEducational programming for the 2021 International Convention has been made possible\, in part\, by the generous support of the Zeta Beta Tau Foundation. Learn how you can support the Zeta Beta Tau Foundation at zbtfoundation.org.
URL:https://zbt.org/event/2021-international-convention/
LOCATION:Marriott Miami – Biscayne Bay\, 1633 N Bayshore Dr\, Miami\, FL\, 33132\, United States
END:VEVENT
BEGIN:VEVENT
DTSTART;VALUE=DATE:20210112
DTEND;VALUE=DATE:20210115
DTSTAMP:20260424T063016
CREATED:20201123T231250Z
LAST-MODIFIED:20201124T190406Z
UID:3447-1610409600-1610668799@zbt.org
SUMMARY:Emerging Leaders Institute
DESCRIPTION:The Emerging Leaders Institute is a leadership program that focuses on providing leadership education and development to brothers with a focus on brothers within their first two years of membership in the Fraternity. The program seeks to provide brothers with opportunities to explore their definitions of leadership and to begin applying strong leadership behaviors and practices to their everyday actions. \nBrothers have the opportunity to network with their peers from across the country\, develop a leadership legacy plan\, and identify future aspirations in their chapter/colony and beyond. \nThe 2021 Emerging Leaders Institute (ELI) will take place on January 12th-14th\, 2021. ELI will be about two hours each day and will be completely virtual. \nTo register for the 2021 Emerging Leaders Institute\, register here. Register by December 11th\, 2020.  \nThe Emerging Leaders Institute is funded by a generous grant from the Zeta Beta Tau Foundation. Learn more about how you can support the Foundation at zbtfoundation.org.
URL:https://zbt.org/event/emerging-leaders-institute-4/
END:VEVENT
BEGIN:VEVENT
DTSTART;VALUE=DATE:20210107
DTEND;VALUE=DATE:20210112
DTSTAMP:20260424T063016
CREATED:20201123T231140Z
LAST-MODIFIED:20201124T190431Z
UID:3445-1609977600-1610409599@zbt.org
SUMMARY:President's Leadership Academy
DESCRIPTION:The James E. Greer\, Jr. Presidents Leadership Academy is one of the Fraternity’s premiere leadership programs. The program is intended to be an intensive leadership development program that challenges brothers to create positive change in their chapters and communities by equipping them with the necessary tools and skills. \nPresidents have the opportunity to network with their peers from across the country\, develop a plan for chapter/colony success\, and grow as a leader who can effectively manage his peers. \nThe Presidents Leadership Academy was named in honor of James E. Greer\, Jr.\, Beta Pi (CSU-Long Beach) 1964\, longtime Executive Vice President Emeritus of ZBT. \nThe 2021 Presidents Leadership Academy (PLA) will take place on January 7th-11th\, 2021. PLA will be about two hours each day and will be completely virtual. \nTo register for the 2021 Presidents Leadership Academy\, register here. Register by December 11th\, 2020. \nThe James E. Greer\, Jr. Presidents Leadership Academy is made possible by a generous grant from the Zeta Beta Tau Foundation.  The grant is funded in part by The Shartiag/Varon Fund of the UJ-Eighty Corporation and other various donors and gifts.
URL:https://zbt.org/event/presidents-leadership-academy/
END:VEVENT
BEGIN:VEVENT
DTSTART;TZID=America/New_York:20200930T203000
DTEND;TZID=America/New_York:20200930T213000
DTSTAMP:20260424T063016
CREATED:20200902T161903Z
LAST-MODIFIED:20200902T161903Z
UID:3396-1601497800-1601501400@zbt.org
SUMMARY:Standards of Excellence 2020-2021
DESCRIPTION:Announcing and explaining the 2020-2021 SOE. \nRegister HERE.
URL:https://zbt.org/event/standards-of-excellence-2020-2021/
END:VEVENT
BEGIN:VEVENT
DTSTART;TZID=America/New_York:20200923T213000
DTEND;TZID=America/New_York:20200923T223000
DTSTAMP:20260424T063016
CREATED:20200911T174834Z
LAST-MODIFIED:20200917T174842Z
UID:3402-1600896600-1600900200@zbt.org
SUMMARY:LIVING THE CREDO: Social Engagement
DESCRIPTION:Wondering how change actually happens or how to engage with elected officials? Join us as we welcome Dan T. Arriola Alpha Rho (UCLA) 2011 as we discuss the political side of social responsibility. Dan is a sitting city council member in Tracy\, California and has been engaged in local politics. He will help us understand more about these topics and how you can become engaged on issues that matter to you! \nREGISTER HERE
URL:https://zbt.org/event/living-the-credo-social-engagement/
END:VEVENT
BEGIN:VEVENT
DTSTART;TZID=America/New_York:20200921T200000
DTEND;TZID=America/New_York:20200921T204500
DTSTAMP:20260424T063016
CREATED:20200902T161739Z
LAST-MODIFIED:20200902T161739Z
UID:3395-1600718400-1600721100@zbt.org
SUMMARY:Communications Director Position Review
DESCRIPTION:Join us to review the new Officer Manual and expectations. \nRegister HERE.
URL:https://zbt.org/event/communications-director-position-review/
END:VEVENT
BEGIN:VEVENT
DTSTART;TZID=America/New_York:20200921T191500
DTEND;TZID=America/New_York:20200921T200000
DTSTAMP:20260424T063016
CREATED:20200902T161659Z
LAST-MODIFIED:20200902T161659Z
UID:3394-1600715700-1600718400@zbt.org
SUMMARY:Brotherhood Development Director Position Review
DESCRIPTION:Join us to review the new Officer Manual and expectations. \nRegister HERE.
URL:https://zbt.org/event/brotherhood-development-director-position-review/
END:VEVENT
BEGIN:VEVENT
DTSTART;TZID=America/New_York:20200921T183000
DTEND;TZID=America/New_York:20200921T191500
DTSTAMP:20260424T063016
CREATED:20200902T161614Z
LAST-MODIFIED:20200902T161614Z
UID:3393-1600713000-1600715700@zbt.org
SUMMARY:Standards Director Position Review
DESCRIPTION:Join us to review the new Officer Manual and expectations. \nRegister HERE.
URL:https://zbt.org/event/standards-director-position-review/
END:VEVENT
BEGIN:VEVENT
DTSTART;TZID=America/New_York:20200917T193000
DTEND;TZID=America/New_York:20200917T203000
DTSTAMP:20260424T063016
CREATED:20200902T161427Z
LAST-MODIFIED:20200902T161427Z
UID:3392-1600371000-1600374600@zbt.org
SUMMARY:How To- Virtual Programming: The JOURNEY
DESCRIPTION:Join us to learn how you can make virtual programming happen in a fun and meaningful way. We will spend time talking through making the JOURNEY work in a virtual format. \nRegister HERE.
URL:https://zbt.org/event/how-to-virtual-programming-the-journey/
END:VEVENT
BEGIN:VEVENT
DTSTART;TZID=America/New_York:20200915T211500
DTEND;TZID=America/New_York:20200915T220000
DTSTAMP:20260424T063016
CREATED:20200902T161304Z
LAST-MODIFIED:20200902T161304Z
UID:3391-1600204500-1600207200@zbt.org
SUMMARY:Risk Prevention and Wellness Director Position Review
DESCRIPTION:Join us to review the new Officer Manual and expectations. \nRegister HERE.
URL:https://zbt.org/event/risk-prevention-and-wellness-director-position-review/
END:VEVENT
BEGIN:VEVENT
DTSTART;TZID=America/New_York:20200915T203000
DTEND;TZID=America/New_York:20200915T211500
DTSTAMP:20260424T063016
CREATED:20200902T161116Z
LAST-MODIFIED:20200902T161209Z
UID:3390-1600201800-1600204500@zbt.org
SUMMARY:Programming Director Position Review
DESCRIPTION:Join us to review the new Officer Manual and expectations. \nRegister HERE.
URL:https://zbt.org/event/programming-director-position-review/
END:VEVENT
BEGIN:VEVENT
DTSTART;TZID=America/New_York:20200914T200000
DTEND;TZID=America/New_York:20200914T210000
DTSTAMP:20260424T063016
CREATED:20200902T160925Z
LAST-MODIFIED:20200902T161010Z
UID:3389-1600113600-1600117200@zbt.org
SUMMARY:Jewish Brother Space
DESCRIPTION:ZBT has created a community space for our brothers who are Jewish. This is an opportunity for brotherhood\, support\, and community and to connect about anything – not just ZBT. The common identity does not mean their experiences are exactly the same nor that they believe the same way. However\, there are common experiences our Jewish brothers share in that others cannot understand. This space will be led by brother Daniel P.  Warner\, Lambda (UT Austin) 2011 and undergraduate brother Sam L. Chumsky\, Alpha Tau (Franklin and Marshall)  2019. This opportunity is open to both Jewish undergraduate and alumni brothers. This space is not open to non-Jewish brothers at this time. \nRegister HERE
URL:https://zbt.org/event/jewish-brother-space/
END:VEVENT
END:VCALENDAR